BEGIN:VCALENDAR
VERSION:2.0
PRODID:-//dhtmlXScheduler//NONSGML v2.2//EN
X-WR-CALNAME:Wydarzenia
BEGIN:VEVENT
DTSTART:20260428T180000
DTEND:20260428T200000
UID:1
SUMMARY:Białostocka premiera filmu „Klub” + spotkanie z twórcami
END:VEVENT
END:VCALENDAR